BEGIN:VCALENDAR
VERSION:2.0
PRODID:-//Município de Elvas - ECPv6.15.20//NONSGML v1.0//EN
CALSCALE:GREGORIAN
METHOD:PUBLISH
X-WR-CALNAME:Município de Elvas
X-ORIGINAL-URL:https://cm-elvas.pt
X-WR-CALDESC:Eventos para Município de Elvas
REFRESH-INTERVAL;VALUE=DURATION:PT1H
X-Robots-Tag:noindex
X-PUBLISHED-TTL:PT1H
BEGIN:VTIMEZONE
TZID:Europe/Lisbon
BEGIN:DAYLIGHT
TZOFFSETFROM:+0000
TZOFFSETTO:+0100
TZNAME:WEST
DTSTART:20250330T010000
END:DAYLIGHT
BEGIN:STANDARD
TZOFFSETFROM:+0100
TZOFFSETTO:+0000
TZNAME:WET
DTSTART:20251026T010000
END:STANDARD
BEGIN:DAYLIGHT
TZOFFSETFROM:+0000
TZOFFSETTO:+0100
TZNAME:WEST
DTSTART:20260329T010000
END:DAYLIGHT
BEGIN:STANDARD
TZOFFSETFROM:+0100
TZOFFSETTO:+0000
TZNAME:WET
DTSTART:20261025T010000
END:STANDARD
BEGIN:DAYLIGHT
TZOFFSETFROM:+0000
TZOFFSETTO:+0100
TZNAME:WEST
DTSTART:20270328T010000
END:DAYLIGHT
BEGIN:STANDARD
TZOFFSETFROM:+0100
TZOFFSETTO:+0000
TZNAME:WET
DTSTART:20271031T010000
END:STANDARD
END:VTIMEZONE
BEGIN:VEVENT
DTSTART;TZID=Europe/Lisbon:20260221T143000
DTEND;TZID=Europe/Lisbon:20260425T150000
DTSTAMP:20260420T115654
CREATED:20260410T130923Z
LAST-MODIFIED:20260410T130923Z
UID:70569-1771684200-1777129200@cm-elvas.pt
SUMMARY:30º Torneio da Malha do Concelho de Elvas "João Brioso"
DESCRIPTION:O 30º Torneio da Malha do Concelho de Elvas “João Brioso” vai decorrer ao longo de dez jornadas\, entre 21 de fevereiro e 25 de abril\, numa organização da Câmara Municipal de Elvas e Associação Desportiva\, Recreativa e Cultural da Juventude de São Vicente e Ventosa\, com o apoio das Juntas de Freguesia do Concelho e Comunidade Intermunicipal do Alto Alentejo.\n\n\nAs jornadas vão ter lugar nos locais e datas seguintes: Santa Eulália (21 de fevereiro)\, Terrugem (28 de fevereiro)\, Barbacena (7 de março)\, Vila Fernando (14 de março)\, São Vicente e Ventosa (21 de março)\, Vila Boim (28 de março)\, Ajuda\, Salvador e Santo Ildefonso (4 de abril)\, São Brás e São Lourenço (11 de abril)\, Caia\, São Pedro e Alcáçova (18 de abril) e Praça da República (25 de abril\, feriado nacional). Todas as jornadas têm início às 14h30\, exceto a da Praça da República\, que está marcada para as 9 horas.\n\n\nO Torneio da Malha está dividido\, em quatro escalões: seniores masculinos\, para idades entre os 16 e os 69 anos; seniores femininos\, para idades iguais ou acima de 16 anos; sub-15\, para idades até aos 15 anos; e veteranos masculinos\, para idades iguais ou acima de 70 anos.\n\n\nO Município de Elvas vai proporcionar\, à semelhança dos anos anteriores\, transporte de ida e regresso aos participantes do torneio.
URL:https://cm-elvas.pt/event/30o-torneio-da-malha-do-concelho-de-elvas-joao-brioso/
CATEGORIES:Desporto
ATTACH;FMTTYPE=image/jpeg:https://cm-elvas.pt/wp-content/uploads/2026/04/torneio-malha-2026_cartaz-scaled.jpg
END:VEVENT
BEGIN:VEVENT
DTSTART;TZID=Europe/Lisbon:20260328T150000
DTEND;TZID=Europe/Lisbon:20260524T170000
DTSTAMP:20260420T115654
CREATED:20260323T162549Z
LAST-MODIFIED:20260402T085025Z
UID:70379-1774710000-1779642000@cm-elvas.pt
SUMMARY:Exposição de fotografia de Alfredo Cunha + Obras de Alexandre Farto aka Vhils
DESCRIPTION:A cidade de Elvas prepara-se para receber uma nova exposição\, no próximo dia 28 de março de 2026\, no Museu de Arte Contemporânea de Elvas (MACE) que cruza diferentes linguagens artísticas e gerações.\n\n\nA inauguração\, marcada para as 15h30\, reúne duas vertentes distintas\, mas complementares: por um lado\, a fotografia de Alfredo Cunha\, reconhecido pelo seu olhar marcante sobre momentos históricos e sociais; por outro\, as obras de Alexandre Farto\, também conhecido como Vhils\, um dos artistas contemporâneos portugueses mais relevantes no panorama internacional. As peças integram a Coleção António Cachola\, referência na arte contemporânea em Portugal.\n\n\nEste encontro entre fotografia documental e intervenção artística promete proporcionar ao público uma experiência rica\, que atravessa memória\, identidade e expressão contemporânea.\n\n\nA Câmara Municipal convida toda a população a marcar presença nesta inauguração e a participar num momento cultural único para a cidade. A visita permitirá não só conhecer de perto obras de grande valor artístico\, mas também celebrar a cultura e a criatividade em Elvas.\n\n\nA participação da comunidade é essencial para valorizar iniciativas como esta e reforçar o papel da cidade como um polo cultural dinâmico.
URL:https://cm-elvas.pt/event/exposicao-de-fotografia-de-alfredo-cunha-obras-de-alexandre-farto-aka-vhils/
LOCATION:Museu de Arte Contemporânea de Elvas
CATEGORIES:Cultura
ATTACH;FMTTYPE=image/jpeg:https://cm-elvas.pt/wp-content/uploads/2026/04/WhatsApp-Image-2026-03-24-at-17.01.58.jpeg
END:VEVENT
BEGIN:VEVENT
DTSTART;TZID=Europe/Lisbon:20260410T080000
DTEND;TZID=Europe/Lisbon:20260425T233000
DTSTAMP:20260420T115654
CREATED:20260410T125830Z
LAST-MODIFIED:20260410T125830Z
UID:70555-1775808000-1777159800@cm-elvas.pt
SUMMARY:52 anos do 25 de Abril de 1974
DESCRIPTION:O concelho de Elvas vai assinalar os 52 anos da Revolução dos Cravos com um programa diversificado de iniciativas culturais\, educativas e institucionais\, que decorrem até maio\, envolvendo diferentes públicos e espaços emblemáticos da cidade.\n\n\nAs comemorações arrancaram a 28 de março e prolongam-se até 24 de maio\, com destaque para a exposição de fotografia de Alfredo da Cunha\, patente no MACE – Museu de Arte Contemporânea de Elvas. Paralelamente\, entre 10 e 24 de abril\, decorre o projeto “A Liberdade”\, dinamizado nas escolas do ensino básico do concelho\, promovido pela associação juvenil Arkus.\n\n\nNo dia 18 de abril\, o MACE acolhe a conferência “Operação «Viragem Histórica»: 50 anos de construção da democracia portuguesa”\, proporcionando um momento de reflexão sobre o percurso democrático do país.\n\n\nA 23 de abril\, Dia Mundial do Livro\, a Biblioteca Municipal de Elvas Dra. Elsa Grilo recebe uma sessão dedicada à promoção da leitura\, com projetos de biblioterapia e a atribuição de diplomas de Melhor Leitor 2025.\n\n\nNa véspera do feriado\, a 24 de abril\, realiza-se o recital “Música Encanta o Património”\, pelo Ensemble de Violoncelos da ESART\, no Forte de Santa Luzia.\n\n\nO ponto alto das comemorações acontece a 25 de abril\, com um conjunto de iniciativas ao longo do dia. As celebrações iniciam-se às 9h30 com o hastear das bandeiras\, nos Paços do Concelho\, acompanhado pela Banda 14 de Janeiro. Segue-se a distribuição de cravos e a realização da final do Torneio da Malha\, na Praça da República.\n\n\nDurante a manhã\, terá ainda lugar uma sessão extraordinária da Assembleia Municipal\, evocativa da data\, bem como uma visita guiada no âmbito do 10.º aniversário da requalificação do Forte da Graça.\n\n\nAs celebrações culminam à noite\, pelas 21h30\, com um concerto da Brigada 14 de Janeiro\, no Auditório São Mateus\, com entrada gratuita mediante levantamento de bilhete.\n\n\nCom este programa\, o Município de Elvas reafirma a importância de preservar a memória do 25 de Abril\, promovendo simultaneamente a participação cívica e o acesso à cultura junto da comunidade.
URL:https://cm-elvas.pt/event/52-anos-do-25-de-abril-de-1974/
CATEGORIES:Cultura
ATTACH;FMTTYPE=image/jpeg:https://cm-elvas.pt/wp-content/uploads/2026/04/programa_25_abril_page-0002.jpg
END:VEVENT
BEGIN:VEVENT
DTSTART;TZID=Europe/Lisbon:20260423T180000
DTEND;TZID=Europe/Lisbon:20260423T200000
DTSTAMP:20260420T115654
CREATED:20260414T112336Z
LAST-MODIFIED:20260414T112336Z
UID:70591-1776967200-1776974400@cm-elvas.pt
SUMMARY:Comemorações do Dia Mundial do Livro
DESCRIPTION:A Biblioteca Municipal de Elvas Dra. Elsa Grilo recebe\, no próximo dia 23 de abril\, pelas 18h00\, uma iniciativa especial para assinalar o Dia Mundial do Livro\, promovida pela Câmara Municipal de Elvas.\n\n\nO programa inclui a atribuição dos Diplomas do Melhor Leitor 2025\, distinguindo os leitores mais assíduos da biblioteca ao longo do último ano\, numa cerimónia que pretende valorizar o hábito da leitura e reconhecer o envolvimento da comunidade.\n\n\nUm dos momentos altos será a 2.ª edição de “Roncas com Poesia”\, que contará com a participação dos autores César Magarreiro e António Brinquete. A iniciativa promete cruzar tradição e expressão literária\, num ambiente descontraído e criativo.\n\n\nA sessão integra ainda a apresentação da 1.ª edição de “Biblioterapia dos Afetos”\, pela autora Carmen Ezequiel\, uma proposta que alia a leitura ao bem-estar emocional\, explorando o poder terapêutico dos livros.\n\n\nCom uma programação diversificada\, o evento pretende reforçar o papel da leitura na promoção da cultura\, do conhecimento e da saúde emocional\, convidando toda a população a participar nesta celebração dedicada aos livros e aos leitores.
URL:https://cm-elvas.pt/event/comemoracoes-do-dia-mundial-do-livro/
LOCATION:Biblioteca Municipal de Elvas Dra. Elsa Grilo\, Largo do Colégio\, Elvas\, 7350\, Portugal
CATEGORIES:Cultura
ATTACH;FMTTYPE=image/jpeg:https://cm-elvas.pt/wp-content/uploads/2026/04/biblioterapia_cartaz-scaled.jpg
END:VEVENT
BEGIN:VEVENT
DTSTART;TZID=Europe/Lisbon:20260424T180000
DTEND;TZID=Europe/Lisbon:20260424T200000
DTSTAMP:20260420T115654
CREATED:20260410T124947Z
LAST-MODIFIED:20260410T124947Z
UID:70543-1777053600-1777060800@cm-elvas.pt
SUMMARY:“Música Encanta o Património”
DESCRIPTION:O Forte de Santa Luzia\, em Elvas\, acolhe a 24 de abril\, pelas 18h00\, um recital de música de câmara integrado na programação “Música Encanta o Património”\, que decorre até julho de 2026.\n\n\nO evento\, de entrada gratuita\, propõe uma experiência cultural que alia a música ao património histórico\, proporcionando ao público um momento artístico num dos espaços mais emblemáticos da cidade. A escolha do Forte de Santa Luzia como palco reforça a valorização do património classificado de Elvas\, criando uma ligação entre a expressão musical e a identidade histórica local.\n\n\nInserido nas comemorações evocativas do 25 de Abril\, este recital pretende também celebrar os valores de liberdade e cultura\, aproximando a comunidade das artes e promovendo o acesso a iniciativas culturais de qualidade.\n\n\nA iniciativa é promovida pelo Município de Elvas\, no âmbito de uma programação mais alargada que visa dinamizar o património através da música\, convidando residentes e visitantes a usufruir de concertos em cenários únicos da cidade.
URL:https://cm-elvas.pt/event/musica-encanta-o-patrimonio/
LOCATION:Forte de Santa Luzia
CATEGORIES:Cultura
ATTACH;FMTTYPE=image/png:https://cm-elvas.pt/wp-content/uploads/2026/04/24-abril.png
END:VEVENT
BEGIN:VEVENT
DTSTART;TZID=Europe/Lisbon:20260425T110000
DTEND;TZID=Europe/Lisbon:20260425T130000
DTSTAMP:20260420T115654
CREATED:20260410T125103Z
LAST-MODIFIED:20260410T125103Z
UID:70546-1777114800-1777122000@cm-elvas.pt
SUMMARY:Visita guiada “O Forte no Meu Tempo”
DESCRIPTION:O Forte da Graça\, em Elvas\, continua a assinalar o 10.º aniversário da sua reabilitação com a realização da iniciativa “O Forte no Meu Tempo”\, e a próxima atividade é a 25 de abril\, pelas 11h00.\n\n\nA atividade contará com a participação de José Cordeiro (1984) e propõe uma abordagem evocativa e participativa\, convidando os participantes a refletir sobre a história recente do monumento e a sua vivência ao longo do tempo. A iniciativa pretende cruzar memória\, património e identidade\, reforçando a ligação da comunidade a um dos mais emblemáticos espaços fortificados da cidade.\n\n\nIntegrada nas comemorações do 25 de Abril e na celebração da requalificação do Forte da Graça (2015–2025)\, esta ação destaca a importância da preservação e valorização do património histórico\, promovendo simultaneamente o seu usufruto cultural.\n\n\nA participação está sujeita a inscrição prévia\, através do endereço de email disponibilizado no cartaz\, sendo esperada a adesão de público interessado na história local e na evolução deste importante monumento classificado.
URL:https://cm-elvas.pt/event/visita-guiada-o-forte-no-meu-tempo/
LOCATION:Forte da Graça
CATEGORIES:Cultura
ATTACH;FMTTYPE=image/jpeg:https://cm-elvas.pt/wp-content/uploads/2026/04/O-forte-no-meu-tempo_Cartaz_ABRIL2026.jpg
END:VEVENT
BEGIN:VEVENT
DTSTART;TZID=Europe/Lisbon:20260425T213000
DTEND;TZID=Europe/Lisbon:20260425T233000
DTSTAMP:20260420T115654
CREATED:20260414T111809Z
LAST-MODIFIED:20260414T111809Z
UID:70588-1777152600-1777159800@cm-elvas.pt
SUMMARY:Concerto da Brigada 14 de Janeiro
DESCRIPTION:A cidade de Elvas recebe\, no próximo dia 25 de abril\, um espetáculo musical da Brigada 14 de Janeiro\, integrado nas comemorações da Revolução dos Cravos.\n\n\nO concerto terá lugar no Auditório São Mateus\, com início marcado para as 21h30\, numa iniciativa\, promovida pelo Município de Elvas\, que pretende assinalar uma das datas mais importantes da história recente de Portugal\, celebrando os valores de liberdade e democracia.\n\n\nA entrada é livre\, estando os bilhetes disponíveis para levantamento no Posto de Turismo de Elvas.\n\n\nA Brigada 14 de Janeiro\, conhecida pelo seu repertório ligado à música tradicional e de intervenção\, promete um espetáculo evocativo e participado\, alinhado com o espírito da efeméride.\n\n\nCom esta iniciativa\, o Município reforça o seu compromisso em promover a cultura e preservar a memória coletiva\, convidando toda a população a celebrar Abril através da música.
URL:https://cm-elvas.pt/event/concerto-da-brigada-14-de-janeiro/
LOCATION:Auditório São Mateus
CATEGORIES:Cultura
ATTACH;FMTTYPE=image/jpeg:https://cm-elvas.pt/wp-content/uploads/2026/04/brigada-scaled.jpg
END:VEVENT
BEGIN:VEVENT
DTSTART;TZID=Europe/Lisbon:20260430T213000
DTEND;TZID=Europe/Lisbon:20260502T233000
DTSTAMP:20260420T115654
CREATED:20260413T143156Z
LAST-MODIFIED:20260414T112351Z
UID:70575-1777584600-1777764600@cm-elvas.pt
SUMMARY:11º Art Jazz Festival de Elvas
DESCRIPTION:A cidade de Elvas volta a afirmar-se como palco de referência para o jazz com a realização do Art Jazz Festival\, que chega este ano à sua 11.ª edição. O evento decorre entre os dias 30 de abril e 2 de maio de 2026\, no Auditório São Mateus\, prometendo três noites de música de qualidade.\n\n\nCom início dos concertos marcado para as 21h30\, o festival arranca a 30 de abril com a atuação do conceituado saxofonista português Rão Kyao. No dia seguinte\, 1 de maio\, sobem ao palco André Pizarro Pepe\, numa noite que destaca o talento nacional.\n\n\nO encerramento\, a 2 de maio\, fica a cargo do músico espanhol Javier Alcántara\, que se apresenta com a sua Short Stories Band\, trazendo ao festival uma sonoridade contemporânea e internacional.\n\n\nCom direção artística de Jorge Goes\, o evento mantém a aposta na diversidade estética do jazz\, cruzando diferentes influências e geografias. A iniciativa é promovida pela Câmara Municipal de Elvas\, reforçando o compromisso do município com a dinamização cultural da região.\n\n\nOs bilhetes estão disponíveis online e também poderão ser adquiridos no local\, até 30 minutos antes de cada concerto.\n\n\nComprar bilhetes:\n11º ARTJAZZ FESTIVAL DE ELVAS: https://www.ticketline.pt/…/11-artjazz-festival-de…\nRÃO KYAO: https://www.ticketline.pt/pt/evento/rao-kyao-103896\nANDRÉ PIZARRO PEPE: https://www.ticketline.pt/…/andre-pizarro-pepe-103900\nJAVIER ALCÁNTARA SHORT STORIES BAND: https://www.ticketline.pt/…/javier-alcantara-short…
URL:https://cm-elvas.pt/event/11o-art-jazz-festival-de-elvas/
LOCATION:Auditório São Mateus
CATEGORIES:Cultura
ATTACH;FMTTYPE=image/jpeg:https://cm-elvas.pt/wp-content/uploads/2026/04/11-Art-Jazz-Festival_Cartaz_CARTAZ.jpg
END:VEVENT
END:VCALENDAR